BEGIN:VCALENDAR
VERSION:2.0
PRODID:-//New York City &amp; Vicinity Latino Carpenters of America - ECPv6.15.20//NONSGML v1.0//EN
CALSCALE:GREGORIAN
METHOD:PUBLISH
X-ORIGINAL-URL:https://ubclatinoclub.com
X-WR-CALDESC:Events for New York City &amp; Vicinity Latino Carpenters of America
REFRESH-INTERVAL;VALUE=DURATION:PT1H
X-Robots-Tag:noindex
X-PUBLISHED-TTL:PT1H
BEGIN:VTIMEZONE
TZID:America/New_York
BEGIN:DAYLIGHT
TZOFFSETFROM:-0500
TZOFFSETTO:-0400
TZNAME:EDT
DTSTART:20180311T070000
END:DAYLIGHT
BEGIN:STANDARD
TZOFFSETFROM:-0400
TZOFFSETTO:-0500
TZNAME:EST
DTSTART:20181104T060000
END:STANDARD
BEGIN:DAYLIGHT
TZOFFSETFROM:-0500
TZOFFSETTO:-0400
TZNAME:EDT
DTSTART:20190310T070000
END:DAYLIGHT
BEGIN:STANDARD
TZOFFSETFROM:-0400
TZOFFSETTO:-0500
TZNAME:EST
DTSTART:20191103T060000
END:STANDARD
BEGIN:DAYLIGHT
TZOFFSETFROM:-0500
TZOFFSETTO:-0400
TZNAME:EDT
DTSTART:20200308T070000
END:DAYLIGHT
BEGIN:STANDARD
TZOFFSETFROM:-0400
TZOFFSETTO:-0500
TZNAME:EST
DTSTART:20201101T060000
END:STANDARD
BEGIN:DAYLIGHT
TZOFFSETFROM:-0500
TZOFFSETTO:-0400
TZNAME:EDT
DTSTART:20210314T070000
END:DAYLIGHT
BEGIN:STANDARD
TZOFFSETFROM:-0400
TZOFFSETTO:-0500
TZNAME:EST
DTSTART:20211107T060000
END:STANDARD
BEGIN:DAYLIGHT
TZOFFSETFROM:-0500
TZOFFSETTO:-0400
TZNAME:EDT
DTSTART:20220313T070000
END:DAYLIGHT
BEGIN:STANDARD
TZOFFSETFROM:-0400
TZOFFSETTO:-0500
TZNAME:EST
DTSTART:20221106T060000
END:STANDARD
BEGIN:DAYLIGHT
TZOFFSETFROM:-0500
TZOFFSETTO:-0400
TZNAME:EDT
DTSTART:20230312T070000
END:DAYLIGHT
BEGIN:STANDARD
TZOFFSETFROM:-0400
TZOFFSETTO:-0500
TZNAME:EST
DTSTART:20231105T060000
END:STANDARD
BEGIN:DAYLIGHT
TZOFFSETFROM:-0500
TZOFFSETTO:-0400
TZNAME:EDT
DTSTART:20240310T070000
END:DAYLIGHT
BEGIN:STANDARD
TZOFFSETFROM:-0400
TZOFFSETTO:-0500
TZNAME:EST
DTSTART:20241103T060000
END:STANDARD
BEGIN:DAYLIGHT
TZOFFSETFROM:-0500
TZOFFSETTO:-0400
TZNAME:EDT
DTSTART:20250309T070000
END:DAYLIGHT
BEGIN:STANDARD
TZOFFSETFROM:-0400
TZOFFSETTO:-0500
TZNAME:EST
DTSTART:20251102T060000
END:STANDARD
END:VTIMEZONE
BEGIN:VEVENT
DTSTART;TZID=America/New_York:20240402T170000
DTEND;TZID=America/New_York:20240402T190000
DTSTAMP:20260423T171504
CREATED:20240306T200855Z
LAST-MODIFIED:20240306T200855Z
UID:1438-1712077200-1712084400@ubclatinoclub.com
SUMMARY:April 2nd Members Meeting
DESCRIPTION:Join us at our next UBC Latino Club Members Meeting on Tuesday\, April 2nd @ 5pm. \n  \nMAIN TOPICS: \n***Upcoming Events \n🔨Volunteering Opportunities \n💻Upcoming Virtual Info Session \n  \nJoin us for some food\, Networking\, Easter Raffle Baskets\, 50/50 Raffle and T-shirt sales. \nApril 2nd\, 2024 @ 5:00pm at \n  \nThe American Legion \n193 9th Street \nBrooklyn\, NY 11215 \n  \nF train to 4 Av-9 St \nor R train to 9 St \n  \nAll Union Carpenter Brothers & Sisters are welcomed. SHARE 💪🏼
URL:https://ubclatinoclub.com/event/april-2nd-members-meeting/
LOCATION:The American Legion\, 193 9th Street\, Brooklyn\, NY\, 11215
ATTACH;FMTTYPE=image/jpeg:https://ubclatinoclub.com/wp-content/uploads/UBC-Latino-Banner.jpg
END:VEVENT
BEGIN:VEVENT
DTSTART;TZID=America/New_York:20231205T170000
DTEND;TZID=America/New_York:20231205T190000
DTSTAMP:20260423T171504
CREATED:20230713T010212Z
LAST-MODIFIED:20230713T010212Z
UID:1373-1701795600-1701802800@ubclatinoclub.com
SUMMARY:December 5th Members Meeting
DESCRIPTION:Join us at our next meeting on Tuesday\, December 5th\, 2023 @ 5:00pm \n  \nLocation: \nThe American Legion \n193 9th Street \nBrooklyn\, NY 11215 \n  \nF train to 4 Av-9 St or \nR train to 9 St
URL:https://ubclatinoclub.com/event/december-5th-members-meeting/
LOCATION:The American Legion\, 193 9th Street\, Brooklyn\, NY\, 11215
ATTACH;FMTTYPE=image/jpeg:https://ubclatinoclub.com/wp-content/uploads/UBC-Latino-Banner.jpg
END:VEVENT
BEGIN:VEVENT
DTSTART;TZID=America/New_York:20231107T170000
DTEND;TZID=America/New_York:20231107T190000
DTSTAMP:20260423T171504
CREATED:20230713T005913Z
LAST-MODIFIED:20230713T005913Z
UID:1371-1699376400-1699383600@ubclatinoclub.com
SUMMARY:November 7th Members Meeting
DESCRIPTION:Join us at our next meeting on Tuesday\, November 7th\, 2023 @ 5:00pm \n  \nLocation: \nThe American Legion \n193 9th Street \nBrooklyn\, NY 11215 \n  \nF train to 4 Av-9 St or \nR train to 9 St
URL:https://ubclatinoclub.com/event/november-7th-members-meeting/
LOCATION:The American Legion\, 193 9th Street\, Brooklyn\, NY\, 11215
ATTACH;FMTTYPE=image/jpeg:https://ubclatinoclub.com/wp-content/uploads/UBC-Latino-Banner.jpg
END:VEVENT
BEGIN:VEVENT
DTSTART;TZID=America/New_York:20231003T170000
DTEND;TZID=America/New_York:20231003T190000
DTSTAMP:20260423T171504
CREATED:20230713T005615Z
LAST-MODIFIED:20230713T005615Z
UID:1369-1696352400-1696359600@ubclatinoclub.com
SUMMARY:October 3rd Members Meeting
DESCRIPTION:Join us at our next meeting on Tuesday\, October 3rd\, 2023 @ 5:00pm \n  \nLocation: \nThe American Legion \n193 9th Street \nBrooklyn\, NY 11215 \n  \nF train to 4 Av-9 St or \nR train to 9 St
URL:https://ubclatinoclub.com/event/october-3rd-members-meeting/
LOCATION:The American Legion\, 193 9th Street\, Brooklyn\, NY\, 11215
ATTACH;FMTTYPE=image/jpeg:https://ubclatinoclub.com/wp-content/uploads/UBC-Latino-Banner.jpg
END:VEVENT
BEGIN:VEVENT
DTSTART;TZID=America/New_York:20230923T090000
DTEND;TZID=America/New_York:20230923T150000
DTSTAMP:20260423T171504
CREATED:20230921T191511Z
LAST-MODIFIED:20230921T191511Z
UID:1428-1695459600-1695481200@ubclatinoclub.com
SUMMARY:CANCELLED 2023 Softball Tournament & Family Picnic
DESCRIPTION:Due to incoming storm this weekend\, NYCDCC 2023 Softball Tournament and Family Picnic has been cancelled.
URL:https://ubclatinoclub.com/event/cancelled-2023-softball-tournament-family-picnic/
LOCATION:NY
ATTACH;FMTTYPE=image/jpeg:https://ubclatinoclub.com/wp-content/uploads/381129229_10161368044484680_6201874300216122536_n.jpg
END:VEVENT
BEGIN:VEVENT
DTSTART;TZID=America/New_York:20230905T170000
DTEND;TZID=America/New_York:20230905T190000
DTSTAMP:20260423T171504
CREATED:20230713T004436Z
LAST-MODIFIED:20230822T032023Z
UID:1367-1693933200-1693940400@ubclatinoclub.com
SUMMARY:September 12th Members Meeting
DESCRIPTION:Join us at our next meeting on Tuesday\, September 12th\, 2023 @ 5:00pm \n  \nLocation: \nThe American Legion \n193 9th Street \nBrooklyn\, NY 11215 \n  \nF train to 4 Av-9 St or \nR train to 9 St
URL:https://ubclatinoclub.com/event/september-5th-members-meeting/
LOCATION:The American Legion\, 193 9th Street\, Brooklyn\, NY\, 11215
ATTACH;FMTTYPE=image/jpeg:https://ubclatinoclub.com/wp-content/uploads/UBC-Latino-Banner.jpg
END:VEVENT
BEGIN:VEVENT
DTSTART;TZID=America/New_York:20230801T170000
DTEND;TZID=America/New_York:20230801T190000
DTSTAMP:20260423T171504
CREATED:20230713T004211Z
LAST-MODIFIED:20230713T004211Z
UID:1365-1690909200-1690916400@ubclatinoclub.com
SUMMARY:August 1st Members Meeting
DESCRIPTION:Join us at our next meeting on Tuesday\, August 1st\, 2023 @ 5:00pm \n  \nLocation: \nThe American Legion \n193 9th Street \nBrooklyn\, NY 11215 \n  \nF train to 4 Av-9 St or \nR train to 9 St
URL:https://ubclatinoclub.com/event/august-1st-members-meeting/
LOCATION:The American Legion\, 193 9th Street\, Brooklyn\, NY\, 11215
ATTACH;FMTTYPE=image/jpeg:https://ubclatinoclub.com/wp-content/uploads/UBC-Latino-Banner.jpg
END:VEVENT
BEGIN:VEVENT
DTSTART;TZID=America/New_York:20230723T110000
DTEND;TZID=America/New_York:20230723T150000
DTSTAMP:20260423T171504
CREATED:20230717T010438Z
LAST-MODIFIED:20230717T010438Z
UID:1391-1690110000-1690124400@ubclatinoclub.com
SUMMARY:BBQ for Brother Edward Perez 7/23 Fundraiser
DESCRIPTION:Let’s root for our Brother Edward Perez!\n\n\nYou’re invited to a BBQ to help raise funds for our Local 157 Brother\, Edward Perez\, on Sunday\, July 23rd from 11:00am-3:00pm at 192-10 56th Ave\, Fresh Meadows\, NY\n\n\nFood\, Drinks & Door Prize with your & $40 Donation per person.\n\n\nRSVP: Carmen Sánchez @ (917) 686-3889\n\nFacebook Event Page\nClick event GOING or Interested to get updates.
URL:https://ubclatinoclub.com/event/bbq-for-brother-edward-perez-7-23-fundraiser/
LOCATION:NY
ATTACH;FMTTYPE=image/jpeg:https://ubclatinoclub.com/wp-content/uploads/Edward-Perez.jpg
END:VEVENT
BEGIN:VEVENT
DTSTART;TZID=America/New_York:20230722T070000
DTEND;TZID=America/New_York:20230722T150000
DTSTAMP:20260423T171504
CREATED:20230717T002359Z
LAST-MODIFIED:20230717T003257Z
UID:1385-1690009200-1690038000@ubclatinoclub.com
SUMMARY:Volunteer at Ujamaa Garden 7/22 Phase 2
DESCRIPTION:Brothers & Sisters\, \nThe NYCDCC and CCA Metro had volunteers work on another garden project\, this time at the Ujamaa Northeast Community Garden in the Eastchester section of the Bronx. This project involved Phase 1 construction of a pavilion. \nJoin your Carpenter Brothers & Sisters for Phase 2\, focusing on the completion of the roof\, walls\, and railings on Saturday\, July 22nd at 7 am. \nUjamaa Community Garden\n3601 Marolla Place\nBronx\, NY10466 \nFacebook Event Page \n 
URL:https://ubclatinoclub.com/event/volunteer-at-ujamaa-garden/
LOCATION:Ujamaa Northeast Bronx Community Garden\, 3601 Marolla Pl\, Bronx\, NY\, 10466
ATTACH;FMTTYPE=image/jpeg:https://ubclatinoclub.com/wp-content/uploads/358407330_578900447787120_3828069586909875981_n.jpg
END:VEVENT
BEGIN:VEVENT
DTSTART;TZID=America/New_York:20230713T113000
DTEND;TZID=America/New_York:20230713T123000
DTSTAMP:20260423T171504
CREATED:20230713T015554Z
LAST-MODIFIED:20230713T104731Z
UID:1375-1689247800-1689251400@ubclatinoclub.com
SUMMARY:Rally Up ~ NYCEDC Press Conference
DESCRIPTION:🚨Thursday 7/13 @ 11:30am🚨\nNYC City Hall (Murray Street & Broadway) \n“Being part of a union levels the playing field\, empowering the most marginalized by providing them with a voice. It was meant to be a triumphant breakthrough for those who have long been overlooked\, yet regrettably\, we have regressed a daunting 20 strides because of institutions that perpetuate the cycle of poverty. \nImperfections may exist within my union\, and we have certainly made our fair share of errors. However\, one undeniable truth remains: we refuse to exploit our fellow human beings.” \n~Sinade Wadsworth 💪🏼 \n#DEFUND #NYCEDC
URL:https://ubclatinoclub.com/event/rally-up-press-conference/
LOCATION:NY
ATTACH;FMTTYPE=image/jpeg:https://ubclatinoclub.com/wp-content/uploads/359805384_663739002460126_1173652843559615697_n.jpg
END:VEVENT
BEGIN:VEVENT
DTSTART;TZID=America/New_York:20230711T170000
DTEND;TZID=America/New_York:20230711T190000
DTSTAMP:20260423T171504
CREATED:20230613T120023Z
LAST-MODIFIED:20230713T003717Z
UID:1361-1689094800-1689102000@ubclatinoclub.com
SUMMARY:July 11th Members Meeting
DESCRIPTION:Join us at our next meeting on Tuesday\, July 11th\, 2023 @ 5:00pm \nWe will have food & beverages\, softball team sign-up\, guest speaker and raffling off 6 baskets  \n  \nLocation: \nThe American Legion \n193 9th Street \nBrooklyn\, NY 11215 \n  \nF train to 4 Av-9 St or \nR train to 9 St \n  \nJoin us every first Tuesday of the month for our member meetings.  All Union Carpenter Brothers & Sisters are welcomed. \n***JULY MEETING HAS BEEN RESCHEDULED DUE TO THE SAME DATE AS 4th of JULY. NEW DATE IS THE FOLLOWING WEEK ON JULY 11th @ 5pm***
URL:https://ubclatinoclub.com/event/july-11th-members-meeting/
LOCATION:The American Legion\, 193 9th Street\, Brooklyn\, NY\, 11215
END:VEVENT
BEGIN:VEVENT
DTSTART;TZID=America/New_York:20230606T170000
DTEND;TZID=America/New_York:20230606T190000
DTSTAMP:20260423T171504
CREATED:20230508T221126Z
LAST-MODIFIED:20230708T221634Z
UID:1359-1686070800-1686078000@ubclatinoclub.com
SUMMARY:June 6th Members Meeting
DESCRIPTION:Join us at our next meeting on Tuesday\, June 6th\, 2023 @ 5:00pm \n  \nLocation: \nThe American Legion \n193 9th Street \nBrooklyn\, NY 11215 \n  \nF train to 4 Av-9 St or \nR train to 9 St \n  \nJoin us every first Tuesday of the month for our member meetings. All Union Carpenter Brothers & Sisters are welcomed.\n***JULY MEETING HAS BEEN RESCHEDULED DUE TO THE SAME DATE AS 4th of JULY. NEW DATE IS THE FOLLOWING WEEK ON JULY 11th @ 5pm***
URL:https://ubclatinoclub.com/event/june-6th-members-meeting/
LOCATION:The American Legion\, 193 9th Street\, Brooklyn\, NY\, 11215
ATTACH;FMTTYPE=image/jpeg:https://ubclatinoclub.com/wp-content/uploads/UBC-Latino-Banner.jpg
END:VEVENT
BEGIN:VEVENT
DTSTART;TZID=America/New_York:20230502T170000
DTEND;TZID=America/New_York:20230502T190000
DTSTAMP:20260423T171504
CREATED:20230416T003713Z
LAST-MODIFIED:20230416T003713Z
UID:1342-1683046800-1683054000@ubclatinoclub.com
SUMMARY:May 2nd Members Meeting
DESCRIPTION:Join us at our next meeting on Tuesday\, May 2nd\, 2023 @ 5:00pm \n  \nLocation: \nThe American Legion \n193 9th Street \nBrooklyn\, NY 11215 \n  \nF train to 4 Av-9 St or \nR train to 9 St
URL:https://ubclatinoclub.com/event/may-2nd-members-meeting/
LOCATION:The American Legion\, 193 9th Street\, Brooklyn\, NY\, 11215
ATTACH;FMTTYPE=image/jpeg:https://ubclatinoclub.com/wp-content/uploads/UBC-Latino-Banner.jpg
END:VEVENT
BEGIN:VEVENT
DTSTART;TZID=America/New_York:20230429T070000
DTEND;TZID=America/New_York:20230429T133000
DTSTAMP:20260423T171504
CREATED:20230427T160158Z
LAST-MODIFIED:20230427T171651Z
UID:1350-1682751600-1682775000@ubclatinoclub.com
SUMMARY:POSTPONED ~ Volunteer at Trees of Life Organic Garden
DESCRIPTION:POSTPONED due rain in the forecast ~ New date TBA\n\nVolunteer at Trees of Life Organic Community Garden in Jamaica\, Queens.\n\nProjects for the day:\nRoof\nGutters\nSolar Panels\n\nBasic Tools Needed:\nGloves\nGlasses\nSquare\nHammer\nTool Pouch\n\nLocation:\nTrees of Life Organic Garden\n106-17 173rd Street\nJamaica\, Queens\, NY\n\nDate & Time:\nTBA\n\nFor this event & future projects\, Contact:\nDenise Echevarria\, Local 157\n917-346-2558\nOr\nJoe Reilly\, Local 45\n917-940-5792
URL:https://ubclatinoclub.com/event/postponed-volunteer-at-trees-of-life-organic-garden/
LOCATION:Trees of Life Organic Garden\, 106-17 173rd Street\, Jamaica\, New York
ATTACH;FMTTYPE=image/jpeg:https://ubclatinoclub.com/wp-content/uploads/342895998_604786595017214_857231686722414161_n.jpg
END:VEVENT
BEGIN:VEVENT
DTSTART;TZID=America/New_York:20230422T070000
DTEND;TZID=America/New_York:20230422T150000
DTSTAMP:20260423T171504
CREATED:20230418T053304Z
LAST-MODIFIED:20230418T053304Z
UID:1346-1682146800-1682175600@ubclatinoclub.com
SUMMARY:Earth Day Volunteer Event 4/22/23
DESCRIPTION:SATURDAY\, April 22nd @ 7am\nEarth Day Volunteer Event \nOriginally founded in 1989 by PS 4K Teacher Mary Scialis and Paraprofessional Harry Peterson and neighbor Gladys Gonzalez\, Paradise Garden is used both by the neighborhood and the nearby PS 4\, a special education elementary school. \nThe garden creates a caring environment with a pond\, shade structure\, gazebo\, bird feeders\, sand & water play tables\, and raised beds filled with all types of vegetables and herbs. \nHelp us\, Brothers & Sisters\, to continue their building projects for the Community of East New York\, Brooklyn. \nProjects for the day:\nPlatform\nAbout 15 Garden Beds \nGarden bed materials supplied by Greenthumb \nBasic Tools Needed:\nGloves\nGlasses\nSquare\nHammer\nTool Pouch \nLocation:\nParadise Community Garden\nEast New York\, Brooklyn\n676-696 Glenmore Ave\nBrooklyn\, NY 11207 \nDate & Time:\nSaturday\, April 22nd @ 7am – 3pm \nPut in the time that you can. \nContact:\nJoe Reilly\, Local 45\n917-940-5792\nOr\nDenise Echevarria\, Local 157\n917-346-2558
URL:https://ubclatinoclub.com/event/earth-day-volunteer-event-4-22-23/
LOCATION:PS 4K Paradise Garden\, 676-696 Glenmore Ave\, Brooklyn\, NY\, 11207
ATTACH;FMTTYPE=image/jpeg:https://ubclatinoclub.com/wp-content/uploads/ban-ps4k-e1681795841196.jpg
END:VEVENT
BEGIN:VEVENT
DTSTART;TZID=America/New_York:20230415T070000
DTEND;TZID=America/New_York:20230415T150000
DTSTAMP:20260423T171504
CREATED:20230414T115250Z
LAST-MODIFIED:20230414T115402Z
UID:1333-1681542000-1681570800@ubclatinoclub.com
SUMMARY:Volunteer at ENY Success Garden in Brooklyn 4/15/23
DESCRIPTION:ENY Success Garden is a large 40\,000 square foot community garden that functioned successfully for decades\, but had fallen into disrepair and had been left unattended for years by the time GrowNYC took on a major rebuilding project in 2015.\n\n\nHelp us\, Brothers & Sisters\, to continue their building projects for the Community of East New York\, Brooklyn.\n\n\n\nProjects for the day:\nGreenhouse\nADA Ramp\nADA Table\n\n\n\nBasic Tools Needed:\nGloves\nGlasses\nSquare\nHammer\nTool Pouch\n\n\n\nLocation:\nSuccess Community Garden\nEast New York\, Brooklyn\n449-461 Williams Ave\nBrooklyn\, NY 11207\n\n\n\nDate & Time:\nSaturday\, April 15th @ 7am\n\n\n\nContact:\nDenise Echevarria\, Local 157\n917-346-2558\nOr\nJoe Reilly\, Local 45\n917-940-5792
URL:https://ubclatinoclub.com/event/1333/
LOCATION:ENY Success Garden\, 449-461 Williams Ave\, East New York Brooklyn\, New York\, 11207
ATTACH;FMTTYPE=image/jpeg:https://ubclatinoclub.com/wp-content/uploads/340986142_627205459250058_7497153145642709032_n.jpg
END:VEVENT
BEGIN:VEVENT
DTSTART;TZID=America/New_York:20221101T170000
DTEND;TZID=America/New_York:20221101T190000
DTSTAMP:20260423T171504
CREATED:20221023T093922Z
LAST-MODIFIED:20230123T110432Z
UID:1313-1667322000-1667329200@ubclatinoclub.com
SUMMARY:Thanksgiving Raffle / Members Meeting 11/1/22
DESCRIPTION:Carpenter Brothers & Sisters\,\nPlease join us for a day of Giving Thanks Tuesday\, November 1st\, 2022 @ 5:00pm.\n\nWe would like to thank all of our members\, supporters and volunteers of the New York City & Vicinity Latino Carpenters of America\, who have helped us throughout the 18 years of our existence.\n\nPlease join us for this very special meeting. Food will be served. Cash bar available. Bring some Carpenter Brothers & Sisters with you. We will have Thanksgiving baskets to raffle!\n\nNext Meeting Date:\nTuesday\, November 1st\, 2022\n\nTime:\n4:30pm Social 5:00pm Meeting\n\nMeeting will be held at:\nThe American Legion\n193 9th Street\nBrooklyn\, NY 11215\n\nF train to 4 Av-9 St or\nR train to 9 St
URL:https://ubclatinoclub.com/event/thanksgiving-raffle-members-meeting-11-1-22/
LOCATION:The American Legion\, 193 9th Street\, Brooklyn\, NY\, 11215
ATTACH;FMTTYPE=image/jpeg:https://ubclatinoclub.com/wp-content/uploads/Thanksgiving-Dinner-2014.jpg
END:VEVENT
BEGIN:VEVENT
DTSTART;TZID=America/New_York:20221004T170000
DTEND;TZID=America/New_York:20221004T193000
DTSTAMP:20260423T171504
CREATED:20221003T231518Z
LAST-MODIFIED:20221003T231518Z
UID:1300-1664902800-1664911800@ubclatinoclub.com
SUMMARY:October 4th Member's Meeting CANCELED
DESCRIPTION:Meeting \nCanceled\nTUESDAY\, October 4th Member’s Meeting has been CANCELED due to conflict of Executive Board Member’s New Work Schedules. We apologize for any inconvenience and look forward to you attending our Thanksgiving Raffle next month on November 1st @ 5:00pm.\n\n\nLocation:\nThe American Legion\n193 9th Street\nBrooklyn\, NY 11215\n\n\nF train to 4 Av-9 St or\nR train to 9 St\n\n\nPlease stay tuned/relay info for volunteer opportunities to help rebuild communities affected by the hurricanes.
URL:https://ubclatinoclub.com/event/october-4th-members-meeting-canceled/
LOCATION:The American Legion\, 193 9th Street\, Brooklyn\, NY\, 11215
END:VEVENT
BEGIN:VEVENT
DTSTART;TZID=America/New_York:20220802T170000
DTEND;TZID=America/New_York:20220802T190000
DTSTAMP:20260423T171504
CREATED:20220705T095746Z
LAST-MODIFIED:20220705T095746Z
UID:1265-1659459600-1659466800@ubclatinoclub.com
SUMMARY:7/5/22 Meeting POSTPONED. Next Meeting 8/2/22 @ 5pm
DESCRIPTION:Tuesday\, July 5th Member’s Meeting has been POSTPONED.\nPlease join us at our next meeting\nAugust 2nd\, 2022 @ 5:00pm\nat our NEW LOCATION at\nThe American Legion\n193 9th Street Brooklyn\, NY 11215\nF train to 4 Av-9 St or    R train to 9 St
URL:https://ubclatinoclub.com/event/7-5-22-meeting-postponed-next-meeting-8-2-22-5pm/
LOCATION:The American Legion\, 193 9th Street\, Brooklyn\, NY\, 11215
ATTACH;FMTTYPE=image/jpeg:https://ubclatinoclub.com/wp-content/uploads/UBC-Latino-Banner.jpg
END:VEVENT
BEGIN:VEVENT
DTSTART;TZID=America/New_York:20220607T080000
DTEND;TZID=America/New_York:20220607T170000
DTSTAMP:20260423T171504
CREATED:20220607T092131Z
LAST-MODIFIED:20220607T092131Z
UID:1257-1654588800-1654621200@ubclatinoclub.com
SUMMARY:June 7\, 2022 Members Meeting ***NEW LOCATION*** in Brooklyn
DESCRIPTION:***NEW LOCATION***\nUBC Latino Club\nParades\nTuesday\, June 7\, 2022 \n@ 5:00pm\nLocation:\nThe American Legion\n193 9th Street\nBrooklyn\, NY 11215\nF train to 4 Av-9 St \nor    R train to 9 St\n***NEW LOCATION***
URL:https://ubclatinoclub.com/event/june-7-2022-members-meeting-new-location-in-brooklyn/
LOCATION:NY
END:VEVENT
BEGIN:VEVENT
DTSTART;TZID=America/New_York:20220405T170000
DTEND;TZID=America/New_York:20220405T190000
DTSTAMP:20260423T171504
CREATED:20220302T203416Z
LAST-MODIFIED:20220308T125100Z
UID:1192-1649178000-1649185200@ubclatinoclub.com
SUMMARY:April 5\, 2022 Members Meeting ***NEW LOCATION*** in Brooklyn
DESCRIPTION:***NEW LOCATION***\nUBC Latino Club\nTD Five Boro Bike Tour Info Meeting \nRiders / Marshalls / Volunteers \nTuesday\, April 5\, 2022 \n@ 5:00pm\nLocation:\nThe American Legion\n193 9th Street\nBrooklyn\, NY 11215\nF train to 4 Av-9 St \nor    R train to 9 St\n***NEW LOCATION***
URL:https://ubclatinoclub.com/event/april-5-2022-members-meeting-new-location/
LOCATION:The American Legion\, 193 9th Street\, Brooklyn\, NY\, 11215
ATTACH;FMTTYPE=image/jpeg:https://ubclatinoclub.com/wp-content/uploads/Five-Boro-Bike-Tour-2015.jpg
ORGANIZER;CN="Jimmy Mercado":MAILTO:ubclatinoclubnyc@outlook.com
END:VEVENT
BEGIN:VEVENT
DTSTART;TZID=America/New_York:20220301T170000
DTEND;TZID=America/New_York:20220301T190000
DTSTAMP:20260423T171504
CREATED:20220222T145703Z
LAST-MODIFIED:20220225T191859Z
UID:1158-1646154000-1646161200@ubclatinoclub.com
SUMMARY:March 2022 Meeting ***NEW LOCATION***
DESCRIPTION:NEW LOCATION\nNext Meeting is in Brooklyn\nTuesday\, March 1\, 2022\nTime: 5:00pm\n\nLocation:\nThe American Legion\n389 5th Avenue\nBrooklyn\, NY 11215\nNEW LOCATION\n\nF or R train to 9th Street
URL:https://ubclatinoclub.com/event/march-2022-meeting-new-location/
LOCATION:The American Legion\, 193 9th Street\, Brooklyn\, NY\, 11215
ATTACH;FMTTYPE=image/jpeg:https://ubclatinoclub.com/wp-content/uploads/UBC-Latino-Banner.jpg
END:VEVENT
BEGIN:VEVENT
DTSTART;TZID=America/New_York:20211206T170000
DTEND;TZID=America/New_York:20211206T183000
DTSTAMP:20260423T171504
CREATED:20211203T230826Z
LAST-MODIFIED:20211203T230826Z
UID:1114-1638810000-1638815400@ubclatinoclub.com
SUMMARY:
DESCRIPTION:DEC 6\, 2021 5:00PM VFW ROCCO MORETTO POST 2348 31-35 41ST STREET ASTORIA\, NY
URL:https://ubclatinoclub.com/event/1114/
LOCATION:Rocco Moretto Post 2348\, 31-35 41st Street\, Astoria\, NY\, 11103\, United States
END:VEVENT
BEGIN:VEVENT
DTSTART;TZID=America/New_York:20211119T183000
DTEND;TZID=America/New_York:20211119T233000
DTSTAMP:20260423T171504
CREATED:20210925T025847Z
LAST-MODIFIED:20210925T025847Z
UID:1105-1637346600-1637364600@ubclatinoclub.com
SUMMARY:Annual Billiards Tournament 2021
DESCRIPTION:
URL:https://ubclatinoclub.com/event/annual-billiards-tournament-2021/
LOCATION:BQE Café Billiards\, 70-02 34th Avenue\, Jackson Heights\, NY\, United States
END:VEVENT
BEGIN:VEVENT
DTSTART;TZID=America/New_York:20210926T110000
DTEND;TZID=America/New_York:20210926T180000
DTSTAMP:20260423T171504
CREATED:20210924T152917Z
LAST-MODIFIED:20210924T152917Z
UID:1091-1632654000-1632679200@ubclatinoclub.com
SUMMARY:2da FERIA DEL TRABAJADOR INMIGRANTE
DESCRIPTION:
URL:https://ubclatinoclub.com/event/2da-feria-del-trabajador-inmigrante/
LOCATION:52-11 111th street Flushing\, NY 11368\, 52-11 111th st\, Flushing\, NY\, 11368\, United States
END:VEVENT
BEGIN:VEVENT
DTSTART;TZID=America/New_York:20210925T090000
DTEND;TZID=America/New_York:20210925T150000
DTSTAMP:20260423T171504
CREATED:20210925T025213Z
LAST-MODIFIED:20210925T025213Z
UID:1100-1632560400-1632582000@ubclatinoclub.com
SUMMARY:NYCDCC Annual Softball Tournament 2021
DESCRIPTION:
URL:https://ubclatinoclub.com/event/nycdcc-annual-softball-tournament-2021/
LOCATION:Cunningham Park\, 196-10 Union Tpke\, Queens\, NY\, 11366\, United States
END:VEVENT
BEGIN:VEVENT
DTSTART;TZID=America/New_York:20200203T170000
DTEND;TZID=America/New_York:20200203T190000
DTSTAMP:20260423T171504
CREATED:20200130T005317Z
LAST-MODIFIED:20200130T005317Z
UID:1047-1580749200-1580756400@ubclatinoclub.com
SUMMARY:February Meeting/Presidential Nominees Q&A
DESCRIPTION:
URL:https://ubclatinoclub.com/event/february-meeting-presidential-nominees-qa/
LOCATION:Rocco Moretto Post 2348\, 31-35 41st Street\, Astoria\, NY\, 11103\, United States
END:VEVENT
BEGIN:VEVENT
DTSTART;TZID=America/New_York:20191108T170000
DTEND;TZID=America/New_York:20191108T230000
DTSTAMP:20260423T171504
CREATED:20191021T232951Z
LAST-MODIFIED:20191021T233634Z
UID:1031-1573232400-1573254000@ubclatinoclub.com
SUMMARY:Billiards Tournament 11/8
DESCRIPTION:NEW YORK CITY & VICINITY LATINO CARPENTERS OF AMERICA\n\n\n \n\n\n11th Annual Billiards Tournament\n\n\n \n\n\nFriday\, November 8th\, 2019 \n\n\nat 6:30pm- 11:30pm\n\n\n \n\n\n1st Prize $300 \n\n\n \n\n\n2nd Prize $150 \n\n\n \n\n\n3rd Prize $50\n\n\n \n\n\n*Raffles for T-shirts\, Pool Sticks\, Basket of Cheer & 50/50.\n\n\n \n\n\nApoya nuestra cultura Latina.\n\n\n \n\n\nAt\n\n\n \n\n\nBQE Café Billiards\n\n\n \n\n\n70-02 34thAvenue\, Jackson Heights\, NY (718) 779-4348\n\n\n \n\n\nwww.bqebilliardsandbar.com. There will be 1 hours of free beverage and appetizers. \n\n\n \n\n\nRegister now until November 4th\, 2019. Sign up at out next Latino Club meeting to hold your spot.\n\n\n \n\n\n$30 registration for Union members $20.00 for non-players.\n\n\n \n\n\nContact Caesar Bravo at (646) 483-9541\, Eddie Herrero (516) 903-7372\, Jimmy Mercado (646) 302-1142.
URL:https://ubclatinoclub.com/event/billiards-tournament-11-8/
LOCATION:BQE Café Billiards\, 70-02 34th Avenue\, Jackson Heights\, NY\, United States
ATTACH;FMTTYPE=image/jpeg:https://ubclatinoclub.com/wp-content/uploads/45274012_1926025507435025_4516319701298577408_n.jpg
ORGANIZER;CN="Eddie Herrero":MAILTO:ubclatinoclubnyc@outlook.com
END:VEVENT
BEGIN:VEVENT
DTSTART;TZID=America/New_York:20191104T163000
DTEND;TZID=America/New_York:20191104T190000
DTSTAMP:20260423T171504
CREATED:20191021T025012Z
LAST-MODIFIED:20191022T105303Z
UID:1028-1572885000-1572894000@ubclatinoclub.com
SUMMARY:Thanksgiving Raffle / Members Meeting 11/4
DESCRIPTION:Please join us for a day of Giving Thanks! We would like to thank all of our supporters and volunteers who have helped us throughout the 15 years of the Latino Club’s existence. \n\n\n \n\n\nIf you have also volunteered with HEART 9/11 whether it be 9/11 First Responder\, Sandy Restoration\, Veteran Build\, Haiti\, Texas\, Florida\, Puerto Rico\, Bahamas\, etc. or plan to volunteer\, please join us for this very special meeting on Monday\, November 4th…Thank you!\n\n\n \n\n\nFood & beverages will be served. Bring some Carpenter Brothers & Sisters with you. We will have two Thanksgiving baskets raffled off thanks to our sponsor\, Attorney at Law\, Wingate\, Russotti\, Shapiro & Halperin\, LLP.\, guest speakers\, t-shirt sales\, Billiards Tournament Registration and giveaways.\n\n\n \n\n\nNext Meeting Date:\n\n\nMonday\, November 4th\n\n\n \n\n\nTime:\n\n\n4:30pm Social 5:00pm Meeting\n\n\n \n\n\nMeeting will be held at:\n\n\n \n\n\nRocco Moretto Post 2348\n\n\n31-35 41st Street\n\n\nAstoria\, New York\n\n\nM or R train to Steinway St.\n\n\n \n\n\n \n\n\n \n\n\n11th Annual Billiards Tournament\n\n\n \n\n\nFriday\, November 8th\, 2019\n\n\nat 6:30pm- 11:30pm\n\n\n \n\n\nAt\n\n\n \n\n\nBQE Café Billiards\n\n\n70-02 34thAvenue\, Jackson Heights\, NY\n\n\n \n\n\nRegister at November 4th meeting to hold your spot.
URL:https://ubclatinoclub.com/event/thanksgiving-raffle-members-meeting-11-4/
LOCATION:Rocco Moretto Post 2348\, 31-35 41st Street\, Astoria\, NY\, 11103\, United States
ATTACH;FMTTYPE=image/jpeg:https://ubclatinoclub.com/wp-content/uploads/Thanksgiving-Dinner-2014.jpg
END:VEVENT
BEGIN:VEVENT
DTSTART;TZID=America/New_York:20191020T083000
DTEND;TZID=America/New_York:20191020T130000
DTSTAMP:20260423T171504
CREATED:20191018T172032Z
LAST-MODIFIED:20191021T013943Z
UID:1023-1571560200-1571576400@ubclatinoclub.com
SUMMARY:Making Strides of the Bronx Cancer Walk in Orchard Beach
DESCRIPTION:Join the New York City & Vicinity Latino Carpenters of America this Sunday\, October 20th for the Making Strides of the Bronx Cancer Walk in Orchard Beach @ 9:00 am. \nCarpenter members get a free pink Latino Club t-shirt when you sign in to walk with us. First come\, first serve. If you have your Local’s Cancer Awareness shirt please bring to wear. \nMeet up location will be at the main staircase\, up top and center. Look out for a group with black hoodies and a purple ribbon representing all cancers. It will be a cool day so dress warm. Contact Jimmy Mercado for details at 646-302-1142. \nEVENT SCHEDULE\nMeet up @ 8:30am – 9:00am \nOPENING CEREMONY\nCome together with survivors\, caregivers\, men and women from all walks of life who are passionate about saving lives from breast cancer. \nWALK BEGINS @ 9:30 am \n  \nFacebook Event Page \n  \n 
URL:https://ubclatinoclub.com/event/making-strides-of-the-bronx-cancer-walk-in-orchard-beach/
LOCATION:Orchard Beach\, Bronx
ATTACH;FMTTYPE=image/jpeg:https://ubclatinoclub.com/wp-content/uploads/74238107_2482291385141765_7496550057194291200_n.jpg
END:VEVENT
END:VCALENDAR